BEGIN:VCALENDAR
VERSION:2.0
PRODID:spatie/icalendar-generator
DESCRIPTION:Events from Charles H Walsh Academy
X-WR-CALDESC:Events from Charles H Walsh Academy
REFRESH-INTERVAL;VALUE=DURATION:PT1440M
X-PUBLISHED-TTL:PT1440M
BEGIN:VTIMEZONE
TZID:America/Chicago
BEGIN:STANDARD
DTSTART:20251102T020000Z
TZOFFSETFROM:-0500
TZOFFSETTO:-0600
END:STANDARD
BEGIN:DAYLIGHT
DTSTART:20260308T020000Z
TZOFFSETFROM:-0600
TZOFFSETTO:-0500
END:DAYLIGHT
END:VTIMEZONE
BEGIN:VTIMEZONE
TZID:UTC
BEGIN:STANDARD
DTSTART:20250729T114340Z
TZOFFSETFROM:+0000
TZOFFSETTO:+0000
END:STANDARD
END:VTIMEZONE
BEGIN:VEVENT
UID:229-202
DTSTAMP:20260425T114340Z
SUMMARY:Classes Resume
LOCATION:
ORGANIZER;CN=Heather Lischett:MAILTO:LischettH@jenschool.org
DTSTART;TZID=America/Chicago;VALUE=DATE:20260330
DTEND;TZID=America/Chicago;VALUE=DATE:20260331
X-ALT-DESC;FMTTYPE=TEXT/HTML:
CATEGORIES:School Resumes
URL;VALUE=URI:https://www.walshacademy.org/mc-events/classes-resume-4/
METHOD:PUBLISH
END:VEVENT
END:VCALENDAR